BEGIN:VCALENDAR
VERSION:2.0
PRODID:-//Corby Amateur Swimming Club - ECPv6.15.20//NONSGML v1.0//EN
CALSCALE:GREGORIAN
METHOD:PUBLISH
X-WR-CALNAME:Corby Amateur Swimming Club
X-ORIGINAL-URL:https://corbyswimmingclub.org.uk
X-WR-CALDESC:Events for Corby Amateur Swimming Club
REFRESH-INTERVAL;VALUE=DURATION:PT1H
X-Robots-Tag:noindex
X-PUBLISHED-TTL:PT1H
BEGIN:VTIMEZONE
TZID:Europe/London
BEGIN:DAYLIGHT
TZOFFSETFROM:+0000
TZOFFSETTO:+0100
TZNAME:BST
DTSTART:20190331T010000
END:DAYLIGHT
BEGIN:STANDARD
TZOFFSETFROM:+0100
TZOFFSETTO:+0000
TZNAME:GMT
DTSTART:20191027T010000
END:STANDARD
BEGIN:DAYLIGHT
TZOFFSETFROM:+0000
TZOFFSETTO:+0100
TZNAME:BST
DTSTART:20200329T010000
END:DAYLIGHT
BEGIN:STANDARD
TZOFFSETFROM:+0100
TZOFFSETTO:+0000
TZNAME:GMT
DTSTART:20201025T010000
END:STANDARD
BEGIN:DAYLIGHT
TZOFFSETFROM:+0000
TZOFFSETTO:+0100
TZNAME:BST
DTSTART:20210328T010000
END:DAYLIGHT
BEGIN:STANDARD
TZOFFSETFROM:+0100
TZOFFSETTO:+0000
TZNAME:GMT
DTSTART:20211031T010000
END:STANDARD
BEGIN:DAYLIGHT
TZOFFSETFROM:+0000
TZOFFSETTO:+0100
TZNAME:BST
DTSTART:20220327T010000
END:DAYLIGHT
BEGIN:STANDARD
TZOFFSETFROM:+0100
TZOFFSETTO:+0000
TZNAME:GMT
DTSTART:20221030T010000
END:STANDARD
BEGIN:DAYLIGHT
TZOFFSETFROM:+0000
TZOFFSETTO:+0100
TZNAME:BST
DTSTART:20230326T010000
END:DAYLIGHT
BEGIN:STANDARD
TZOFFSETFROM:+0100
TZOFFSETTO:+0000
TZNAME:GMT
DTSTART:20231029T010000
END:STANDARD
BEGIN:DAYLIGHT
TZOFFSETFROM:+0000
TZOFFSETTO:+0100
TZNAME:BST
DTSTART:20240331T010000
END:DAYLIGHT
BEGIN:STANDARD
TZOFFSETFROM:+0100
TZOFFSETTO:+0000
TZNAME:GMT
DTSTART:20241027T010000
END:STANDARD
BEGIN:DAYLIGHT
TZOFFSETFROM:+0000
TZOFFSETTO:+0100
TZNAME:BST
DTSTART:20250330T010000
END:DAYLIGHT
BEGIN:STANDARD
TZOFFSETFROM:+0100
TZOFFSETTO:+0000
TZNAME:GMT
DTSTART:20251026T010000
END:STANDARD
END:VTIMEZONE
BEGIN:VEVENT
DTSTART;TZID=Europe/London:20240717T190000
DTEND;TZID=Europe/London:20240717T210000
DTSTAMP:20260421T043846
CREATED:20170208T054930Z
LAST-MODIFIED:20240703T185221Z
UID:624-1721242800-1721250000@corbyswimmingclub.org.uk
SUMMARY:AGM
DESCRIPTION:via Zoom Link
URL:https://corbyswimmingclub.org.uk/gala/agm/
LOCATION:Derbyshire
END:VEVENT
BEGIN:VEVENT
DTSTART;TZID=Europe/London:20230719T183000
DTEND;TZID=Europe/London:20230719T200000
DTSTAMP:20260421T043846
CREATED:20190810T122727Z
LAST-MODIFIED:20230720T181307Z
UID:1755-1689791400-1689796800@corbyswimmingclub.org.uk
SUMMARY:AGM (Virtual)
DESCRIPTION:
URL:https://corbyswimmingclub.org.uk/gala/no-training-3/
LOCATION:Derbyshire
END:VEVENT
BEGIN:VEVENT
DTSTART;VALUE=DATE:20230513
DTEND;VALUE=DATE:20230515
DTSTAMP:20260421T043846
CREATED:20221224T165424Z
LAST-MODIFIED:20221224T165424Z
UID:2520-1683936000-1684108799@corbyswimmingclub.org.uk
SUMMARY:SEEM Regional LC Championships 2023 Gala 3
DESCRIPTION:Qualifiers.\nAge Group: 14/UN plus Distance all age Groups.\nWarm Up: TBA.
URL:https://corbyswimmingclub.org.uk/gala/seem-regional-lc-championships-2023-gala-1-3/
LOCATION:Corby EMIP\, Parkland Gateway\, George Street\, Corby\, Northamptonshire\, NN17 1QG\, United Kingdom
CATEGORIES:Level 1,Long Course
END:VEVENT
BEGIN:VEVENT
DTSTART;VALUE=DATE:20230508
DTEND;VALUE=DATE:20230509
DTSTAMP:20260421T043846
CREATED:20221228T104322Z
LAST-MODIFIED:20221228T104322Z
UID:2525-1683504000-1683590399@corbyswimmingclub.org.uk
SUMMARY:Bank Holiday (Coronation of King Charles III) - No Training
DESCRIPTION:
URL:https://corbyswimmingclub.org.uk/gala/bank-holiday-no-training-5/
LOCATION:Derbyshire
END:VEVENT
BEGIN:VEVENT
DTSTART;VALUE=DATE:20230429
DTEND;VALUE=DATE:20230502
DTSTAMP:20260421T043846
CREATED:20221224T165328Z
LAST-MODIFIED:20221224T165328Z
UID:2517-1682726400-1682985599@corbyswimmingclub.org.uk
SUMMARY:SEEM Regional LC Championships 2023 Gala 2
DESCRIPTION:Qualifiers.\nAge Group: 15/OV Excluding Distance Events.\nWarm Up: TBA.
URL:https://corbyswimmingclub.org.uk/gala/seem-regional-lc-championships-2023-gala-1-2/
LOCATION:Moorways\, Moor Lane\, Allerton\, Derby\, Derbyshire\, DE24 9HY\, United Kingdom
CATEGORIES:Level 1,Long Course
END:VEVENT
BEGIN:VEVENT
DTSTART;VALUE=DATE:20230422
DTEND;VALUE=DATE:20230424
DTSTAMP:20260421T043846
CREATED:20170130T100909Z
LAST-MODIFIED:20221224T164711Z
UID:545-1682121600-1682294399@corbyswimmingclub.org.uk
SUMMARY:SEEM Regional LC Championships 2023 Gala 1
DESCRIPTION:Qualifiers.\nAge Group: 14/UN plus Distance all age Groups.\nWarm Up: TBA.
URL:https://corbyswimmingclub.org.uk/gala/seem-regional-lc-championships-2023-gala-1/
LOCATION:Corby EMIP\, Parkland Gateway\, George Street\, Corby\, Northamptonshire\, NN17 1QG\, United Kingdom
CATEGORIES:Level 1,Long Course
END:VEVENT
BEGIN:VEVENT
DTSTART;VALUE=DATE:20221002
DTEND;VALUE=DATE:20221003
DTSTAMP:20260421T043846
CREATED:20180806T230030Z
LAST-MODIFIED:20220725T110326Z
UID:1166-1664668800-1664755199@corbyswimmingclub.org.uk
SUMMARY:ASA Inter County Team Champs (county gala)
DESCRIPTION:Squads : NASA Selected team\nWarmup: TBA
URL:https://corbyswimmingclub.org.uk/gala/asa-inter-county-team-champs-county-gala-2/
LOCATION:Sheffield\, Ponds Forge\, Sheaf St\, Sheffield\, South Yorkshire\, S1 2BP\, United Kingdom
CATEGORIES:Level 1,Short Course
END:VEVENT
BEGIN:VEVENT
DTSTART;VALUE=DATE:20220508
DTEND;VALUE=DATE:20220509
DTSTAMP:20260421T043846
CREATED:20170208T053702Z
LAST-MODIFIED:20220301T164851Z
UID:611-1651968000-1652054399@corbyswimmingclub.org.uk
SUMMARY:Qualifying Window Closes British Champs
DESCRIPTION:
URL:https://corbyswimmingclub.org.uk/gala/qualifying-window-closes/
LOCATION:Derbyshire
END:VEVENT
BEGIN:VEVENT
DTSTART;VALUE=DATE:20220507
DTEND;VALUE=DATE:20220509
DTSTAMP:20260421T043846
CREATED:20211129T100113Z
LAST-MODIFIED:20211129T100113Z
UID:2155-1651881600-1652054399@corbyswimmingclub.org.uk
SUMMARY:East Midlands Regional Champs (Gala 3)
DESCRIPTION:Squads : Qualifiers\, 14/OV All Events\, Excluding 50m\, 800m & 1500m\nWarmup: TBA
URL:https://corbyswimmingclub.org.uk/gala/len-european-masters-swimming-champs-2-2/
LOCATION:Sheffield\, Ponds Forge\, Sheaf St\, Sheffield\, South Yorkshire\, S1 2BP\, United Kingdom
CATEGORIES:Level 1,Long Course
END:VEVENT
BEGIN:VEVENT
DTSTART;VALUE=DATE:20220502
DTEND;VALUE=DATE:20220503
DTSTAMP:20260421T043846
CREATED:20180521T230047Z
LAST-MODIFIED:20211129T100355Z
UID:1287-1651449600-1651535999@corbyswimmingclub.org.uk
SUMMARY:East Midlands Regional Champs (Gala 2)
DESCRIPTION:Squads : Qualifiers\, 14/OV 50m Events\, including Female 800m & Male 1500m for all ages\nWarmup: TBA
URL:https://corbyswimmingclub.org.uk/gala/len-european-masters-swimming-champs-2/
LOCATION:Sheffield\, Ponds Forge\, Sheaf St\, Sheffield\, South Yorkshire\, S1 2BP\, United Kingdom
CATEGORIES:Level 1,Long Course
END:VEVENT
BEGIN:VEVENT
DTSTART;VALUE=DATE:20220423
DTEND;VALUE=DATE:20220425
DTSTAMP:20260421T043846
CREATED:20180802T230016Z
LAST-MODIFIED:20211129T094302Z
UID:1174-1650672000-1650844799@corbyswimmingclub.org.uk
SUMMARY:East Midlands Regional Champs Gala 1
DESCRIPTION:Squads : Qualifiers\, 13/UN All events\, including Male 800m & Female 1500m for all ages\nWarmup: TBA
URL:https://corbyswimmingclub.org.uk/gala/regional-short-course-champs-2/
LOCATION:Corby EMIP\, Parkland Gateway\, George Street\, Corby\, Northamptonshire\, NN17 1QG\, United Kingdom
END:VEVENT
BEGIN:VEVENT
DTSTART;VALUE=DATE:20220421
DTEND;VALUE=DATE:20220422
DTSTAMP:20260421T043846
CREATED:20211129T100837Z
LAST-MODIFIED:20211129T100837Z
UID:2162-1650499200-1650585599@corbyswimmingclub.org.uk
SUMMARY:Qualifying window to East Midlands Regional Champs Gala 3 Closes
DESCRIPTION:
URL:https://corbyswimmingclub.org.uk/gala/qualifying-window-british-championships-open-2-2-2/
LOCATION:Derbyshire
END:VEVENT
BEGIN:VEVENT
DTSTART;VALUE=DATE:20220414
DTEND;VALUE=DATE:20220415
DTSTAMP:20260421T043846
CREATED:20211129T100802Z
LAST-MODIFIED:20211129T100802Z
UID:2160-1649894400-1649980799@corbyswimmingclub.org.uk
SUMMARY:Qualifying window to East Midlands Regional Champs Gala 2 Closes
DESCRIPTION:
URL:https://corbyswimmingclub.org.uk/gala/qualifying-window-british-championships-open-2-2/
LOCATION:Derbyshire
END:VEVENT
BEGIN:VEVENT
DTSTART;VALUE=DATE:20220407
DTEND;VALUE=DATE:20220408
DTSTAMP:20260421T043846
CREATED:20211129T100634Z
LAST-MODIFIED:20211129T100634Z
UID:2158-1649289600-1649375999@corbyswimmingclub.org.uk
SUMMARY:Qualifying window to East Midlands Regional Champs Gala 1 Closes
DESCRIPTION:
URL:https://corbyswimmingclub.org.uk/gala/qualifying-window-british-championships-open-2/
LOCATION:Derbyshire
END:VEVENT
BEGIN:VEVENT
DTSTART;VALUE=DATE:20220312
DTEND;VALUE=DATE:20220314
DTSTAMP:20260421T043846
CREATED:20180823T230018Z
LAST-MODIFIED:20220301T165659Z
UID:1193-1647043200-1647215999@corbyswimmingclub.org.uk
SUMMARY:Rugby Open Meet
DESCRIPTION:Squads : L3 Qualifiers\nWarmup: 12:45 Saturday\, 08:45 Sunday
URL:https://corbyswimmingclub.org.uk/gala/city-of-coventry-winter-open-meet/
LOCATION:The Queen’s Diamond Jubilee Centre\, Bruce Williams Way\, Rugby\, CV22 5LJ\, United Kingdom
CATEGORIES:Level 3,Short Course
END:VEVENT
BEGIN:VEVENT
DTSTART;VALUE=DATE:20220311
DTEND;VALUE=DATE:20220312
DTSTAMP:20260421T043846
CREATED:20170208T045450Z
LAST-MODIFIED:20220301T164932Z
UID:582-1646956800-1647043199@corbyswimmingclub.org.uk
SUMMARY:Qualifying Window to British Championships Open
DESCRIPTION:
URL:https://corbyswimmingclub.org.uk/gala/qualifying-window-british-championships-open/
LOCATION:Derbyshire
END:VEVENT
BEGIN:VEVENT
DTSTART;VALUE=DATE:20211203
DTEND;VALUE=DATE:20211206
DTSTAMP:20260421T043846
CREATED:20180926T091920Z
LAST-MODIFIED:20211108T114300Z
UID:1413-1638489600-1638748799@corbyswimmingclub.org.uk
SUMMARY:British  SC Championships
DESCRIPTION:Squads : Qualifiers.\nWarmup: TBA.
URL:https://corbyswimmingclub.org.uk/gala/asa-regional-youth-championships-under-14/
LOCATION:Sheffield\, Ponds Forge\, Sheaf St\, Sheffield\, South Yorkshire\, S1 2BP\, United Kingdom
CATEGORIES:Level 2,Short Course
END:VEVENT
BEGIN:VEVENT
DTSTART;VALUE=DATE:20211106
DTEND;VALUE=DATE:20211108
DTSTAMP:20260421T043846
CREATED:20170928T104417Z
LAST-MODIFIED:20211009T102035Z
UID:899-1636156800-1636329599@corbyswimmingclub.org.uk
SUMMARY:East Midlands Regional Short Course
DESCRIPTION:Squads : Qualifiers\nWarmup : TBA
URL:https://corbyswimmingclub.org.uk/gala/asa-regional-youth-championships-14yrs-2/
LOCATION:Nottingham\, Harvey Hadden Sports Village\, Nottingham\, Nottinghamshire\, NG8 4PB\, United Kingdom
CATEGORIES:Level 2,SC
END:VEVENT
BEGIN:VEVENT
DTSTART;VALUE=DATE:20200727
DTEND;VALUE=DATE:20200728
DTSTAMP:20260421T043846
CREATED:20180731T230019Z
LAST-MODIFIED:20191118T083859Z
UID:1352-1595808000-1595894399@corbyswimmingclub.org.uk
SUMMARY:National Age/Youth Open Water
DESCRIPTION:Squads : Qualifiers\nWarmup: TBC
URL:https://corbyswimmingclub.org.uk/gala/british-gas-national-age-youth-open-water/
LOCATION:Thrybergh Country Park
END:VEVENT
BEGIN:VEVENT
DTSTART;VALUE=DATE:20200721
DTEND;VALUE=DATE:20200727
DTSTAMP:20260421T043846
CREATED:20170208T055331Z
LAST-MODIFIED:20191118T083533Z
UID:631-1595289600-1595807999@corbyswimmingclub.org.uk
SUMMARY:British Summer Champs
DESCRIPTION:Invitation\nWarm Up: TBA
URL:https://corbyswimmingclub.org.uk/gala/british-summer-champs/
LOCATION:Sheffield
END:VEVENT
BEGIN:VEVENT
DTSTART;VALUE=DATE:20200414
DTEND;VALUE=DATE:20200420
DTSTAMP:20260421T043846
CREATED:20170208T051211Z
LAST-MODIFIED:20191117T214001Z
UID:592-1586822400-1587340799@corbyswimmingclub.org.uk
SUMMARY:British Championships
DESCRIPTION:Qualifiers
URL:https://corbyswimmingclub.org.uk/gala/british-championships/
LOCATION:TBC
END:VEVENT
END:VCALENDAR