BEGIN:VCALENDAR
VERSION:2.0
PRODID:-//Corby Amateur Swimming Club - ECPv6.15.20//NONSGML v1.0//EN
CALSCALE:GREGORIAN
METHOD:PUBLISH
X-ORIGINAL-URL:https://corbyswimmingclub.org.uk
X-WR-CALDESC:Events for Corby Amateur Swimming Club
REFRESH-INTERVAL;VALUE=DURATION:PT1H
X-Robots-Tag:noindex
X-PUBLISHED-TTL:PT1H
BEGIN:VTIMEZONE
TZID:Europe/London
BEGIN:DAYLIGHT
TZOFFSETFROM:+0000
TZOFFSETTO:+0100
TZNAME:BST
DTSTART:20240331T010000
END:DAYLIGHT
BEGIN:STANDARD
TZOFFSETFROM:+0100
TZOFFSETTO:+0000
TZNAME:GMT
DTSTART:20241027T010000
END:STANDARD
BEGIN:DAYLIGHT
TZOFFSETFROM:+0000
TZOFFSETTO:+0100
TZNAME:BST
DTSTART:20250330T010000
END:DAYLIGHT
BEGIN:STANDARD
TZOFFSETFROM:+0100
TZOFFSETTO:+0000
TZNAME:GMT
DTSTART:20251026T010000
END:STANDARD
BEGIN:DAYLIGHT
TZOFFSETFROM:+0000
TZOFFSETTO:+0100
TZNAME:BST
DTSTART:20260329T010000
END:DAYLIGHT
BEGIN:STANDARD
TZOFFSETFROM:+0100
TZOFFSETTO:+0000
TZNAME:GMT
DTSTART:20261025T010000
END:STANDARD
END:VTIMEZONE
BEGIN:VEVENT
DTSTART;VALUE=DATE:20251004
DTEND;VALUE=DATE:20251006
DTSTAMP:20260419T165344
CREATED:20190726T124717Z
LAST-MODIFIED:20240621T213315Z
UID:1722-1759536000-1759708799@corbyswimmingclub.org.uk
SUMMARY:CASC October Open Meet 2025
DESCRIPTION:Squads: Qualifiers.\nWarmup: 08:00 both days
URL:https://corbyswimmingclub.org.uk/gala/casc-open-meet-2018-2/
LOCATION:Corby EMIP\, Parkland Gateway\, George Street\, Corby\, Northamptonshire\, NN17 1QG\, United Kingdom
CATEGORIES:Level 3,Short Course
END:VEVENT
END:VCALENDAR