BEGIN:VCALENDAR
VERSION:2.0
PRODID:-//Corby Amateur Swimming Club - ECPv6.15.20//NONSGML v1.0//EN
CALSCALE:GREGORIAN
METHOD:PUBLISH
X-ORIGINAL-URL:https://corbyswimmingclub.org.uk
X-WR-CALDESC:Events for Corby Amateur Swimming Club
REFRESH-INTERVAL;VALUE=DURATION:PT1H
X-Robots-Tag:noindex
X-PUBLISHED-TTL:PT1H
BEGIN:VTIMEZONE
TZID:Europe/London
BEGIN:DAYLIGHT
TZOFFSETFROM:+0000
TZOFFSETTO:+0100
TZNAME:BST
DTSTART:20240331T010000
END:DAYLIGHT
BEGIN:STANDARD
TZOFFSETFROM:+0100
TZOFFSETTO:+0000
TZNAME:GMT
DTSTART:20241027T010000
END:STANDARD
BEGIN:DAYLIGHT
TZOFFSETFROM:+0000
TZOFFSETTO:+0100
TZNAME:BST
DTSTART:20250330T010000
END:DAYLIGHT
BEGIN:STANDARD
TZOFFSETFROM:+0100
TZOFFSETTO:+0000
TZNAME:GMT
DTSTART:20251026T010000
END:STANDARD
BEGIN:DAYLIGHT
TZOFFSETFROM:+0000
TZOFFSETTO:+0100
TZNAME:BST
DTSTART:20260329T010000
END:DAYLIGHT
BEGIN:STANDARD
TZOFFSETFROM:+0100
TZOFFSETTO:+0000
TZNAME:GMT
DTSTART:20261025T010000
END:STANDARD
END:VTIMEZONE
BEGIN:VEVENT
DTSTART;TZID=Europe/London:20250118T180000
DTEND;TZID=Europe/London:20250118T210000
DTSTAMP:20260420T045835
CREATED:20220803T195913Z
LAST-MODIFIED:20240703T183749Z
UID:2430-1737223200-1737234000@corbyswimmingclub.org.uk
SUMMARY:NASA County Championships - Distance
DESCRIPTION:Events : 800m Male\, 1500m Female.\nSquads : Qualifiers.\nWarmup : 18:00.
URL:https://corbyswimmingclub.org.uk/gala/nasa-county-championships-distance-2-2-2/
LOCATION:Corby EMIP\, Parkland Gateway\, George Street\, Corby\, Northamptonshire\, NN17 1QG\, United Kingdom
CATEGORIES:Level 1,Long Course
END:VEVENT
BEGIN:VEVENT
DTSTART;VALUE=DATE:20250125
DTEND;VALUE=DATE:20250127
DTSTAMP:20260420T045835
CREATED:20220803T200023Z
LAST-MODIFIED:20240703T183838Z
UID:2432-1737763200-1737935999@corbyswimmingclub.org.uk
SUMMARY:NASA County Championships
DESCRIPTION:Squads : Qualifiers.\nWarmup: 08:30.
URL:https://corbyswimmingclub.org.uk/gala/nasa-county-championships-5-2/
LOCATION:Corby EMIP\, Parkland Gateway\, George Street\, Corby\, Northamptonshire\, NN17 1QG\, United Kingdom
CATEGORIES:Level 1,Long Course
END:VEVENT
END:VCALENDAR